BEGIN:VCALENDAR
VERSION:2.0
BEGIN:VEVENT
CLASS:PUBLIC
CATEGORIES:MEETING
DTSTART;TZID=America/New_York:20190517T183000
DTEND;TZID=America/New_York:20190517T183000
SUMMARY:Bob Niederriter at Halcyon, A Harbor Speakeasy
DESCRIPTION:Age Limit: All Ages\n\nDetails: Trio performance from 6:30 pm - 9:30 pm . Details TBA ...
LOCATION:Halcyon, A Harbor Speakeasy - 1119 Bridge Street, Ashtabula, OH, 44004, US
END:VEVENT

END:VCALENDAR
