BEGIN:VCALENDAR
VERSION:2.0
BEGIN:VEVENT
CLASS:PUBLIC
CATEGORIES:MEETING
DTSTART:20190329T220000Z
DTEND:20190329T220000Z
SUMMARY:Amanda Cottreau at Couples Resort
DESCRIPTION:Price: No cover\nAge Limit: 19+\n\nDetails: You and your significant other are invited to join me for an intimate evening of music and culinary delights at the incomparable Couples Resort in the magical area of Algonquin Park.
LOCATION:Couples Resort - 139 Galeairy Lake Rd, Whitney, ON, CA
END:VEVENT

END:VCALENDAR
