BEGIN:VCALENDAR
VERSION:2.0
BEGIN:VEVENT
CLASS:PUBLIC
CATEGORIES:MEETING
DTSTART;TZID=America/Chicago:20190809T190000
DTEND;TZID=America/Chicago:20190809T190000
SUMMARY:Soul Punch at The Wolf Public House
DESCRIPTION:Age Limit: All Ages\n\nDetails: Fun Cover Show 7-10PM
LOCATION:The Wolf Public House - 15480 Clayton Rd, Ballwin, MO, 63011, US
END:VEVENT

END:VCALENDAR
