BEGIN:VCALENDAR
VERSION:2.0
BEGIN:VEVENT
CLASS:PUBLIC
CATEGORIES:MEETING
DTSTART;TZID=America/New_York:20190706T143000
DTEND;TZID=America/New_York:20190706T143000
SUMMARY:Bob Niederriter at Nelson Ledges Quarry Park
DESCRIPTION:Age Limit: All Ages\n\nDetails: Trio performance at Grateful Fest from 2:30 pm - 4:00 pm . With Tony Monaco on Hammond organ , and Chris Hovan on drums .
LOCATION:Nelson Ledges Quarry Park - 12001 Rt 282 Nelson Ledge Rd, Garrettsville, OH, 44231, US
END:VEVENT

END:VCALENDAR
