BEGIN:VCALENDAR
VERSION:2.0
BEGIN:VEVENT
CLASS:PUBLIC
CATEGORIES:MEETING
DTSTART;TZID=America/Denver:20190515T190000
DTEND;TZID=America/Denver:20190515T190000
SUMMARY:Sniper 66 at Build A Bear Worshop
DESCRIPTION:Price: 12\nAge Limit: All Ages\n\nDetails: Sniper 66 is in town from TX!!!  Let&#39;s show them some love.  Local support from Drunk As Shit, Power Beer, Darklord, and Filth Lords!
LOCATION:Build A Bear Worshop - 25 S Rio Grande St, Salt Lake City, UT, 84101, US
END:VEVENT

END:VCALENDAR
