BEGIN:VCALENDAR
VERSION:2.0
BEGIN:VEVENT
CLASS:PUBLIC
CATEGORIES:MEETING
DTSTART;TZID=Europe/Athens:20190222T223000
DTEND;TZID=Europe/Athens:20190222T223000
SUMMARY:Alex Papadiamantis at Level 69 Live Studio
DESCRIPTION:Price: 5 euros\nAge Limit: All Ages
LOCATION:Level 69 Live Studio - 69 Solomou, Moschato, 183 45, GR
END:VEVENT

END:VCALENDAR
