BEGIN:VCALENDAR
VERSION:2.0
BEGIN:VEVENT
CLASS:PUBLIC
CATEGORIES:MEETING
DTSTART;TZID=America/Chicago:20190208T200000
DTEND;TZID=America/Chicago:20190208T200000
SUMMARY:Rebel Roadside at Tipitina's Uptown
DESCRIPTION:Age Limit: All Ages
LOCATION:Tipitina's Uptown - 501 Napoleon Avenue, New Orleans, LA, 70115, US
END:VEVENT

END:VCALENDAR
