BEGIN:VCALENDAR
VERSION:2.0
BEGIN:VEVENT
CLASS:PUBLIC
CATEGORIES:MEETING
DTSTART;TZID=America/Chicago:20190301T183000
DTEND;TZID=America/Chicago:20190301T183000
SUMMARY:Aurora at Metro Chicago
DESCRIPTION:Price: 21 advance, 26 day of\nClick here to buy tickets: https://www.etix.com/ticket/p/2074775/aurora-chicago-metrochicagoil?cobrand=metro2&amp;partner_id=240#_ga=2.123626507.122281249.1549043397-719118281.1534800965\nAge Limit: All Ages
LOCATION:Metro Chicago - 3730 N Clark St, Chicago, IL, 60613, US
END:VEVENT

END:VCALENDAR
