BEGIN:VCALENDAR
VERSION:2.0
BEGIN:VEVENT
CLASS:PUBLIC
CATEGORIES:MEETING
DTSTART;TZID=America/New_York:20190223T130000
DTEND;TZID=America/New_York:20190223T130000
SUMMARY:Bogan Mask at Awendaw Green
DESCRIPTION:Price: $25 adults/$10kids\nAge Limit: All Ages\n\nDetails: Benefits SC Coastal Bird Conservation and Crab Bank Seabird Sanctuary.\nI kick things off at 1.
LOCATION:Awendaw Green - 4853  N Hwy 17, Awendaw, SC, 29429, US
END:VEVENT

END:VCALENDAR
