BEGIN:VCALENDAR
VERSION:2.0
BEGIN:VEVENT
CLASS:PUBLIC
CATEGORIES:MEETING
DTSTART;TZID=America/Chicago:20190222T200000
DTEND;TZID=America/Chicago:20190222T200000
SUMMARY:ZIP TANG at Reggie's Rock Club
DESCRIPTION:Price: $10/$13\nClick here to buy tickets: https://www.ticketfly.com/purchase/event/1808807\nAge Limit: 21+\n\nDetails: Cloud Zero\nChicago based Progressive Rock band. We primarily pay homage to the band Porcupine Tree, but we throw in a few surprises here and there.\nZip Tang\nZip Tang crawls out of their studio after two years to debut some brand spankin&#39; new Eclectic Progressive Original Rock from their upcoming 6th album and a few tunes from their back catalogue. Chicago prog rock veterans Perry Merritt on guitar and vocals, and Fred Faller on drums, continue to evolve as a power prog trio with their new bassist Andrew Bunk. 
LOCATION:Reggie's Rock Club - 2109 S State St, Chicago, IL, 60616, US
END:VEVENT

END:VCALENDAR
