BEGIN:VCALENDAR
VERSION:2.0
BEGIN:VEVENT
CLASS:PUBLIC
CATEGORIES:MEETING
DTSTART;TZID=Europe/Athens:20190118T223000
DTEND;TZID=Europe/Athens:20190118T223000
SUMMARY:Alex Papadiamantis at Remedy Live Club
DESCRIPTION:Price: 10 euro\nAge Limit: All Ages\n\nDetails:  https://www.facebook.com/groups/1079158185449597/ 
LOCATION:Remedy Live Club - Kountourioti 9, Ηράκλειο, 14122, GR
END:VEVENT

END:VCALENDAR
