BEGIN:VCALENDAR
VERSION:2.0
BEGIN:VEVENT
CLASS:PUBLIC
CATEGORIES:MEETING
DTSTART;TZID=America/Los_Angeles:20191018T184500
DTEND;TZID=America/Los_Angeles:20191018T184500
SUMMARY:Afton Prater at Gard Vintners
DESCRIPTION:Price: Free\nAge Limit: All Ages\n\nDetails: Afton performs with her trio at this all ages, fun venue! Come join us for great country music, food and beverages! 
LOCATION:Gard Vintners - 311 North Pearl Street, Ellensburg, WA, 98926, US
END:VEVENT

END:VCALENDAR
