BEGIN:VCALENDAR
VERSION:2.0
BEGIN:VEVENT
CLASS:PUBLIC
CATEGORIES:MEETING
DTSTART;TZID=Europe/London:20190808T120000
DTEND;TZID=Europe/London:20190808T120000
SUMMARY:BB BlackDog Steampunk Rock at Llanfyllin Workhouse
DESCRIPTION:Price: £45\nClick here to buy tickets: https://www.eventbrite.co.uk/e/phoenix-alternative-festival-2019-tickets-49376328929?fbclid=IwAR0H3s7ueJdAO0hIP2T-n241AyBNjH53LvibTLQ9IY8sYPTB5S5HCWdzhK4\nAge Limit: All Ages\n\nDetails: Our beloved PAF Dates for your diaries!\nHere it is! Our small and beautiful boutique Festival in the hills of Mid-Wales!\n\nRun by Steampunks for everyone from all sub-cultures to come together, have fun and raise money for charity while we party! At the beautiful  Llanfyllin Victorian Workhouse in stunning surroundings. \n\nAn eclectic mix of local and international acts plus plenty of activities to enjoy and participate in. Simply put, a festival filled with creatives from around the globe...and beyond.\n\nCome and get inspired!\n\nMore information to come as we go along, folks! \n\nSee you there? We most certainly hope so!\n\nps. Tell your friends! Thank You! x
LOCATION:Llanfyllin Workhouse - Y DOLYDD WORKHOUSE, Llanfyllin, SY22, UK
END:VEVENT

END:VCALENDAR
