BEGIN:VCALENDAR
VERSION:2.0
BEGIN:VEVENT
CLASS:PUBLIC
CATEGORIES:MEETING
DTSTART;TZID=Europe/London:20190531T120000
DTEND;TZID=Europe/London:20190531T120000
SUMMARY:BB BlackDog Steampunk Rock at Alices Wicked Tea Party 
DESCRIPTION:Price: £40\nClick here to buy tickets: https://www.wegottickets.com/f/11719?fbclid=IwAR0CuOBFXuWomoD7JbdFUFDrEsGk-fl11-MUCFZoRTFiYs5Hh7WvIoAT66A\nAge Limit: All Ages\n\nDetails: Alice&#39;s Wicked Tea Party 2019\nFriday 31 May and Saturday 1 June \nKnoll Farm Wareham Soldiers Rd Purbeck Dorset BH20 5DU\n\nAgain the stages will be undercover within the two barns on site and set in this wonderful part of Dorset that overlooks Corfe Castle it&#39;s time for another year and another round of fantastic bands to seduce your musical passions. \n------------------------------------------------\nConfirmed for 2019 so far\nGoldWater / John E Vistic Rock n&#39; Roll Soundsystem / Tokyo Taboo / Healthy Junkies / The Black Bullets \n/ Tangerinecat / Jellly / The Army Of Skanks / BABAL / Francesco Fonte Band  Angelbomb / Flesh Tetris /\nBrain Ape / Syd.31 / BB BlackDog / Cryogenica / Hatepenny\nSpitting Feathers / Chris Clark&#39;s Alien Creation. More to be Confirmed\n--------------------------------\nGreat bands - Food / Bar - Free parking and camping \n\nTickets will be on sale at WeGotTickets.com on a Tier based set up so the earlier you get in and buy tickets the more you save.  all prices include FREE Camping for the weekend. \nMap location for AWTPSite location is  half way up  Soldiers Road \n&gt;&gt; https://her.is/2lYPITd &lt;&lt;
LOCATION:Alices Wicked Tea Party  - Knolle Farm AWTP Festival Site Soldiers Road Wareham, Purbeck, DOR, BH20 5DU, UK
END:VEVENT

END:VCALENDAR
