BEGIN:VCALENDAR
VERSION:2.0
BEGIN:VEVENT
CLASS:PUBLIC
CATEGORIES:MEETING
DTSTART;TZID=Europe/London:20190510T120000
DTEND;TZID=Europe/London:20190510T120000
SUMMARY:BB BlackDog Steampunk Rock at Stoke Prior Sports & Country Club
DESCRIPTION:Price: £40\nClick here to buy tickets: https://raisingsteam.bandcamp.com/merch/ticket-for-raising-steam-festival-2019?fbclid=IwAR25YNxtiNBnB4v96O24G57hm0kiVgyUSWX1F45FPv-Bg0CkJBvmnrDthX0\nAge Limit: All Ages\n\nDetails: Wonderful Lineup from the 10th to the 12th of May \nhttps://www.facebook.com/events/349180228911770/
LOCATION:Stoke Prior Sports & Country Club - Westonhall Road, Stoke Prior, ENG, B60, UK
END:VEVENT

END:VCALENDAR
