BEGIN:VCALENDAR
VERSION:2.0
BEGIN:VEVENT
CLASS:PUBLIC
CATEGORIES:MEETING
DTSTART;TZID=Europe/London:20190420T120000
DTEND;TZID=Europe/London:20190420T120000
SUMMARY:BB BlackDog Steampunk Rock at The King Arthur
DESCRIPTION:Price: £38\nClick here to buy tickets: https://www.festivalpeople.co.uk/tickets/kozfest/new-avalon-ballroom-weekender/\nAge Limit: All Ages\n\nDetails: Wonderful Lineup including :-\nBB BlackDog are on Saturday Afternoon :-)\n\nThe Cosmic Dead, Kangaroo Moon, Zetan Spore, Skeleton Gong, Magic Bus, Flutatious, The Archetypes, The Honey Pot, Deviant Amps, Nukli, Phaselock, Splink, Andy Roid, Hex Projekta, Tanglemist, SHOM, Delirium, Paradise 9, Sonic Trip, BB Blackdog, The Telephones, Pure Mischief and Monkeytrial all play the festival.\n\nhttps://www.facebook.com/events/246538686026059/
LOCATION:The King Arthur - Benedict St, Glastonbury, SOM, UK
END:VEVENT

END:VCALENDAR
