BEGIN:VCALENDAR
VERSION:2.0
BEGIN:VEVENT
CLASS:PUBLIC
CATEGORIES:MEETING
DTSTART;TZID=Europe/London:20190210T200000
DTEND;TZID=Europe/London:20190210T200000
SUMMARY:The Whiskey Rebellion at The Musician
DESCRIPTION:Price: £8\nClick here to buy tickets: https://www.ticketweb.uk/event/the-whiskey-rebellion-the-musician-tickets/9061465?REFERRAL_ID=twfb&amp;fbclid=IwAR1lc4d7zjMG-eVxo_gZt7mbowesZbO3kpFY1X5WXm04PZwmp5y7ZDTQFDE\nAge Limit: 16+\n\nDetails: Full Band plus special Guests at this wonderful  Venue \n\nhttps://www.facebook.com/themusicianpub/
LOCATION:The Musician - 42 Crafton St W, Leicester, LE1 2DE, UK
END:VEVENT

END:VCALENDAR
