BEGIN:VCALENDAR
VERSION:2.0
BEGIN:VEVENT
CLASS:PUBLIC
CATEGORIES:MEETING
DTSTART;TZID=Europe/London:20190118T200000
DTEND;TZID=Europe/London:20190118T200000
SUMMARY:BB BlackDog Steampunk Rock at The George And Dragon
DESCRIPTION:Price: Free\nAge Limit: All Ages\n\nDetails: BB BlackDog\nFull Band plus special Guests at this wonderful Real Ales Venue \nhttps://www.facebook.com/GeorgeandDragonBelper/
LOCATION:The George And Dragon - 117 Bridge Street, Belper, DER, DE56 1BA, UK
END:VEVENT

END:VCALENDAR
