BEGIN:VCALENDAR
VERSION:2.0
BEGIN:VEVENT
CLASS:PUBLIC
CATEGORIES:MEETING
DTSTART;TZID=America/Los_Angeles:20190315T200000
DTEND;TZID=America/Los_Angeles:20190315T200000
SUMMARY:David Dot Hale & Blind Lemon Peel All-Stars at Harvelle's Santa Monica
DESCRIPTION:Age Limit: All Ages
LOCATION:Harvelle's Santa Monica - 1432 4th St, Santa Monica, CA, 90401, US
END:VEVENT

END:VCALENDAR
