BEGIN:VCALENDAR
VERSION:2.0
BEGIN:VEVENT
CLASS:PUBLIC
CATEGORIES:MEETING
DTSTART;TZID=America/Chicago:20190119T200000
DTEND;TZID=America/Chicago:20190119T200000
SUMMARY:Soul Punch at The Crafty Chameleon Bar
DESCRIPTION:Age Limit: All Ages
LOCATION:The Crafty Chameleon Bar - 1384 Clarkson Clayton Center, Ellisville, MO, 63011, US
END:VEVENT

END:VCALENDAR
