BEGIN:VCALENDAR
VERSION:2.0
BEGIN:VEVENT
CLASS:PUBLIC
CATEGORIES:MEETING
DTSTART;TZID=America/Los_Angeles:20190119T160000
DTEND;TZID=America/Los_Angeles:20190119T160000
SUMMARY:David Dot Hale & Blind Lemon Peel All-Stars at Taste Of Marina Del Rey Festival Grounds
DESCRIPTION:Price: Free\nAge Limit: All Ages
LOCATION:Taste Of Marina Del Rey Festival Grounds - 4211 Admiralty Way, Marina Del Rey, CA, 90292-5413, US
END:VEVENT

END:VCALENDAR
