BEGIN:VCALENDAR
VERSION:2.0
BEGIN:VEVENT
CLASS:PUBLIC
CATEGORIES:MEETING
DTSTART;TZID=America/Los_Angeles:20190115T190000
DTEND;TZID=America/Los_Angeles:20190115T190000
SUMMARY:Darryl Morris Band at The Baked Potato
DESCRIPTION:Price: $15\nClick here to buy tickets: https://www.thebakedpotato.com/events/nothinpersonal-3/\nAge Limit: All Ages
LOCATION:The Baked Potato - Studio City, CA, US
END:VEVENT

END:VCALENDAR
