BEGIN:VCALENDAR
VERSION:2.0
BEGIN:VEVENT
CLASS:PUBLIC
CATEGORIES:MEETING
DTSTART;TZID=America/Los_Angeles:20190105T180000
DTEND;TZID=America/Los_Angeles:20190105T180000
SUMMARY:Darryl Morris Band at The Canyon Club
DESCRIPTION:Price: $20\nClick here to buy tickets: https://www.eventbrite.com/e/darryl-morris-band-with-missing-persons-bow-wow-wow-and-trans-x-tickets-53574229964\nAge Limit: All Ages\n\nDetails: Playing along with MISSING PERSONS, Annabelle from BOW WOW WOW and GENE LOVES JEZEBEL...goona be a great night of music!
LOCATION:The Canyon Club - 28912 Roadside Dr, Agoura Hills, CA, 91301, US
END:VEVENT

END:VCALENDAR
