BEGIN:VCALENDAR
VERSION:2.0
BEGIN:VEVENT
CLASS:PUBLIC
CATEGORIES:MEETING
DTSTART;TZID=America/Los_Angeles:20190115T200000
DTEND;TZID=America/Los_Angeles:20190115T200000
SUMMARY:Evol Walks at The Viper Room
DESCRIPTION:Price: FREE\nAge Limit: 21+\n\nDetails: After 3 years, 5 piece heavy rockers &#39;Evol Walks&#39; are releasing their hotly anticipated Sophomore EP &#39;Our Time is Now&#39; on January 18th 2019. They have put together a special, FREE pre release show at their home, The Viper Room, on Tuesday January 15th alongside some of the most kick ass bands they know- Edge Of Paradise + Loveless Romantics\nTHIS IS A FREE SHOW!\n\nLINEUP\nDOORS 8.15PM\n\n8.45PM: Loveless Romantics\n\n9.45PM: Edge Of Paradise https://youtu.be/4MF8Iq7TZto\n\n10.45PM: Evol Walks 1 Hour Set: https://www.youtube.com/watch?v=JIaKBqybODw\n\nGet a Signed Poster on the night if you pre order &#39;Our Time is Now&#39;! Email management@evolwalks.com with proof of purchase to get yours!\n\nPre order Links: \nAMAZON: https://tinyurl.com/y7rkjzjd\n\nGOOGLE PLAY: https://tinyurl.com/yatkxw4s
LOCATION:The Viper Room - 8852 W Sunset Blvd, West Hollywood, CA, 90069, US
END:VEVENT

END:VCALENDAR
