BEGIN:VCALENDAR
VERSION:2.0
BEGIN:VEVENT
CLASS:PUBLIC
CATEGORIES:MEETING
DTSTART;TZID=America/Chicago:20181216T190000
DTEND;TZID=America/Chicago:20181216T190000
SUMMARY:LarryRCampbell at First Assembly of God Church
DESCRIPTION:Age Limit: All Ages
LOCATION:First Assembly of God Church - Hwy 59, Texarkana, TX, 75501, US
END:VEVENT

END:VCALENDAR
