BEGIN:VCALENDAR
VERSION:2.0
BEGIN:VEVENT
CLASS:PUBLIC
CATEGORIES:MEETING
DTSTART;TZID=America/Indiana/Indianapolis:20190409T183000
DTEND;TZID=America/Indiana/Indianapolis:20190409T183000
SUMMARY:PR1 Promotions / DJ Tiburon at Smokestack Brew
DESCRIPTION:Price: Vary\nAge Limit: 18+ or w/ adult\n\nDetails: This is a 2+ year recurring weekly comedy show featuring nationally recognized comedians,  magicians,  and hypnotists. You don&#39;t want to miss out on the great food,  service,  and laughter.  Another PR1 Promotions Experience. 
LOCATION:Smokestack Brew - 100 North Center Street, Mishawaka, IN, 46544, US
END:VEVENT

END:VCALENDAR
