BEGIN:VCALENDAR
VERSION:2.0
BEGIN:VEVENT
CLASS:PUBLIC
CATEGORIES:MEETING
DTSTART;TZID=America/Chicago:20191012T210000
DTEND;TZID=America/Chicago:20191012T210000
SUMMARY:Michael Goss at Vals
DESCRIPTION:Age Limit: All Ages\n\nDetails: Carson and Goss live at Vals Restaurant and Pub.
LOCATION:Vals - Altus, OK, 73521, US
END:VEVENT

END:VCALENDAR
