BEGIN:VCALENDAR
VERSION:2.0
BEGIN:VEVENT
CLASS:PUBLIC
CATEGORIES:MEETING
DTSTART;TZID=Europe/Athens:20181208T230000
DTEND;TZID=Europe/Athens:20181208T230000
SUMMARY:Alex Papadiamantis at architecture rock cafe live stage
DESCRIPTION:Price: 5 euros\nAge Limit: All Ages\n\nDetails: Rock music 
LOCATION:architecture rock cafe live stage - 23 Oulof Palme, Zografou, 157 71, GR
END:VEVENT

END:VCALENDAR
