BEGIN:VCALENDAR
VERSION:2.0
BEGIN:VEVENT
CLASS:PUBLIC
CATEGORIES:MEETING
DTSTART;TZID=America/New_York:20190802T180000
DTEND;TZID=America/New_York:20190802T180000
SUMMARY:Bob Niederriter at Dan Smith Community Park
DESCRIPTION:Age Limit: All Ages\n\nDetails: Trio performance , from 6:00 pm - 8:00 pm . Details TBA ...
LOCATION:Dan Smith Community Park - East Erie Street, Kent, OH, 44240, US
END:VEVENT

END:VCALENDAR
