BEGIN:VCALENDAR
VERSION:2.0
BEGIN:VEVENT
CLASS:PUBLIC
CATEGORIES:MEETING
DTSTART;TZID=America/Chicago:20181206T180000
DTEND;TZID=America/Chicago:20181206T180000
SUMMARY:Soul Punch at Private Event
DESCRIPTION:Age Limit: All Ages\n\nDetails: 6-10PM
LOCATION:Private Event - 208 Chestnut Hill Drive, O'Fallon, MO, 63368, US
END:VEVENT

END:VCALENDAR
