BEGIN:VCALENDAR
VERSION:2.0
BEGIN:VEVENT
CLASS:PUBLIC
CATEGORIES:MEETING
DTSTART;TZID=America/Chicago:20181228T193000
DTEND;TZID=America/Chicago:20181228T193000
SUMMARY:Soul Punch at The Bevo Mill
DESCRIPTION:Age Limit: All Ages\n\nDetails: Fun Cover Show 7:30 - 10:30PM
LOCATION:The Bevo Mill - 4749 Gravois Ave, St Louis, MO, 63116-2436, US
END:VEVENT

END:VCALENDAR
