BEGIN:VCALENDAR
VERSION:2.0
BEGIN:VEVENT
CLASS:PUBLIC
CATEGORIES:MEETING
DTSTART;TZID=Europe/Berlin:20181124T190000
DTEND;TZID=Europe/Berlin:20181124T190000
SUMMARY:PASSION - Tracey Mun Roe at Alter Schwede
DESCRIPTION:Price: donation\nAge Limit: All Ages
LOCATION:Alter Schwede - Schwedenstraße 11a, Berlin, BE, 13357, DE
END:VEVENT

END:VCALENDAR
