BEGIN:VCALENDAR
VERSION:2.0
BEGIN:VEVENT
CLASS:PUBLIC
CATEGORIES:MEETING
DTSTART;TZID=America/New_York:20190308T180000
DTEND;TZID=America/New_York:20190308T180000
SUMMARY:Bob Niederriter at Mustard Seed Market and Cafe
DESCRIPTION:Age Limit: All Ages\n\nDetails: Trio performance details TBA ...
LOCATION:Mustard Seed Market and Cafe - Fairlawn, OH, US
END:VEVENT

END:VCALENDAR
