BEGIN:VCALENDAR
VERSION:2.0
BEGIN:VEVENT
CLASS:PUBLIC
CATEGORIES:MEETING
DTSTART;TZID=America/Chicago:20181116T210000
DTEND;TZID=America/Chicago:20181116T210000
SUMMARY:Dani Carson at Knucklehead Reds Saloon
DESCRIPTION:Price: $7\nAge Limit: 21+\n\nDetails: Hey ya&#39;ll! I&#39;m bringing some NEW music, covers AND originals, traditional country, new country, ,maybe a little rap ;) come and see what&#39;s in store!
LOCATION:Knucklehead Reds Saloon - 2417 W Broadway Ave, Elk City, OK, 73644, US
END:VEVENT

END:VCALENDAR
