BEGIN:VCALENDAR
VERSION:2.0
BEGIN:VEVENT
CLASS:PUBLIC
CATEGORIES:MEETING
DTSTART;TZID=Europe/Athens:20181103T190000
DTEND;TZID=Europe/Athens:20181103T190000
SUMMARY:Alex Papadiamantis at Temple
DESCRIPTION:Age Limit: All Ages\n\nDetails: the room of doom festival 2018
LOCATION:Temple - 17 Iakchou, Athina, 118 54, GR
END:VEVENT

END:VCALENDAR
