BEGIN:VCALENDAR
VERSION:2.0
BEGIN:VEVENT
CLASS:PUBLIC
CATEGORIES:MEETING
DTSTART;TZID=America/Chicago:20191005T193000
DTEND;TZID=America/Chicago:20191005T193000
SUMMARY:Ian Ash at Heyde Center for the Arts
DESCRIPTION:Age Limit: All Ages
LOCATION:Heyde Center for the Arts - 3 S High St, Chippewa Falls, WI, 54729, US
END:VEVENT

END:VCALENDAR
