BEGIN:VCALENDAR
VERSION:2.0
BEGIN:VEVENT
CLASS:PUBLIC
CATEGORIES:MEETING
DTSTART;TZID=America/Chicago:20190823T190000
DTEND;TZID=America/Chicago:20190823T190000
SUMMARY:Ian Ash at Embers Terrace - Ian Solo
DESCRIPTION:Age Limit: All Ages
LOCATION:Embers Terrace - Ian Solo - 7036 Grand Geneva Way, Lake Geneva, WI, 53147, US
END:VEVENT

END:VCALENDAR
