BEGIN:VCALENDAR
VERSION:2.0
BEGIN:VEVENT
CLASS:PUBLIC
CATEGORIES:MEETING
DTSTART;TZID=America/New_York:20190118T190000
DTEND;TZID=America/New_York:20190118T190000
SUMMARY:Chris Boone at Morgan Creek Grill
DESCRIPTION:Age Limit: All Ages\n\nDetails: 7-10p, Winter Tide, songwriters in the round
LOCATION:Morgan Creek Grill - 80 41st Ave, Isle Of Palms, SC, 29451, US
END:VEVENT

END:VCALENDAR
