BEGIN:VCALENDAR
VERSION:2.0
BEGIN:VEVENT
CLASS:PUBLIC
CATEGORIES:MEETING
DTSTART;TZID=Europe/London:20190125T200000
DTEND;TZID=Europe/London:20190125T200000
SUMMARY:BB BlackDog Steampunk Rock at The Salutation Inn
DESCRIPTION:Price: £6 OTD\nAge Limit: All Ages\n\nDetails: Steampunk, post punk, gothic night of revellry
LOCATION:The Salutation Inn - 77 Maid Marian Way, Nottingham, NG1 6AJ, UK
END:VEVENT

END:VCALENDAR
