BEGIN:VCALENDAR
VERSION:2.0
BEGIN:VEVENT
CLASS:PUBLIC
CATEGORIES:MEETING
DTSTART;TZID=Europe/Berlin:20180915T200000
DTEND;TZID=Europe/Berlin:20180915T200000
SUMMARY:PASSION - Tracey Mun Roe at Panke
DESCRIPTION:Price: around 7 EU\nAge Limit: All Ages\n\nDetails: It&#39;s food, fun and kick-assin&#39; Rock and Roll!\nThe grill&#39;s fired up outside at 4 p.m., show starts around 9 p.m. + aftershow party and specials!
LOCATION:Panke - Panke e.V. Gerichtstr. 23,, Berlin, BE, 13347, DE
END:VEVENT

END:VCALENDAR
