BEGIN:VCALENDAR
VERSION:2.0
BEGIN:VEVENT
CLASS:PUBLIC
CATEGORIES:MEETING
DTSTART;TZID=Europe/London:20181208T190000
DTEND;TZID=Europe/London:20181208T190000
SUMMARY:Festivus! at Under the Edge Arts
DESCRIPTION:Click here to buy tickets: https://www.utea.org.uk/more_detail?id=14992\nAge Limit: All Ages\n\nDetails: https://www.utea.org.uk/events?t=PERFORMANCE&amp;pid=5
LOCATION:Under the Edge Arts - Wotton-Under-Edge, GLS, GL12 7AD, UK
END:VEVENT

END:VCALENDAR
