BEGIN:VCALENDAR
VERSION:2.0
BEGIN:VEVENT
CLASS:PUBLIC
CATEGORIES:MEETING
DTSTART;TZID=Europe/Athens:20180828T200000
DTEND;TZID=Europe/Athens:20180828T200000
SUMMARY:Alex Papadiamantis at ΘΕΑΤΡΟ ΑΝΑΤΟΛΙΚΗΣ ΤΑΦΡΟΥ - ΧΑΝΙΑ
DESCRIPTION:Age Limit: All Ages
LOCATION:ΘΕΑΤΡΟ ΑΝΑΤΟΛΙΚΗΣ ΤΑΦΡΟΥ - ΧΑΝΙΑ - 36 Dodekanisou, Chania, 731 32, GR
END:VEVENT

END:VCALENDAR
