BEGIN:VCALENDAR
VERSION:2.0
BEGIN:VEVENT
CLASS:PUBLIC
CATEGORIES:MEETING
DTSTART;TZID=Europe/Athens:20180826T200000
DTEND;TZID=Europe/Athens:20180826T200000
SUMMARY:Alex Papadiamantis at Minoiko Anaktoro
DESCRIPTION:Age Limit: All Ages
LOCATION:Minoiko Anaktoro - Machis 1868, Malia, 700 07, GR
END:VEVENT

END:VCALENDAR
