BEGIN:VCALENDAR
VERSION:2.0
BEGIN:VEVENT
CLASS:PUBLIC
CATEGORIES:MEETING
DTSTART;TZID=Europe/Amsterdam:20180824T200000
DTEND;TZID=Europe/Amsterdam:20180824T200000
SUMMARY:Jacqui Taylor at Dynamo
DESCRIPTION:Age Limit: All Ages
LOCATION:Dynamo - Catharinastraat 21     Eindhoven, Noord-Brabant, Nederland, NB, NL
END:VEVENT

END:VCALENDAR
