BEGIN:VCALENDAR
VERSION:2.0
BEGIN:VEVENT
CLASS:PUBLIC
CATEGORIES:MEETING
DTSTART;TZID=America/Toronto:20181023T170000
DTEND;TZID=America/Toronto:20181023T170000
SUMMARY:Amanda Cottreau at Algonquin College
DESCRIPTION:Price: $75 each or group rates available\nClick here to buy tickets: https://www.biaovfallfundraiser.com/tickets\nAge Limit: 18+\n\nDetails: Join me at the 12th Annual Fall Fundraiser for the Brain Injury Association of the Ottawa Valley. Proceeds from the event will go to the BIAOV, a 100% volunteer-run grassroots organization that supports brain injury survivors and their families. 
LOCATION:Algonquin College - 1385 Woodroffe Avenue, Ottawa, ON, K2G 3G7, CA
END:VEVENT

END:VCALENDAR
