BEGIN:VCALENDAR
VERSION:2.0
BEGIN:VEVENT
CLASS:PUBLIC
CATEGORIES:MEETING
DTSTART;TZID=Europe/Amsterdam:20180901T200000
DTEND;TZID=Europe/Amsterdam:20180901T200000
SUMMARY:Bob Gaulke at NIMBY Festival
DESCRIPTION:Age Limit: All Ages
LOCATION:NIMBY Festival - Darwin Straat, The Hague, NL
END:VEVENT

END:VCALENDAR
