BEGIN:VCALENDAR
VERSION:2.0
BEGIN:VEVENT
CLASS:PUBLIC
CATEGORIES:MEETING
DTSTART;TZID=Europe/Amsterdam:20180827T200000
DTEND;TZID=Europe/Amsterdam:20180827T200000
SUMMARY:Bob Gaulke at Paradiso
DESCRIPTION:Price: 15 Euros\nClick here to buy tickets: https://www.paradiso.nl/en/program/the-dutch/49364/\nAge Limit: All Ages\n\nDetails: Presenting the Record Man, featuring Hans Croon, Pieter Bon, Tom America, Marco Raaphorst, Fay Lovsky, and Henk Hofstede.
LOCATION:Paradiso - Weteringschans 6, Amsterdam, NH, 1017 SG, NL
END:VEVENT

END:VCALENDAR
