BEGIN:VCALENDAR
VERSION:2.0
BEGIN:VEVENT
CLASS:PUBLIC
CATEGORIES:MEETING
DTSTART;TZID=America/New_York:20181117T210000
DTEND;TZID=America/New_York:20181117T210000
SUMMARY:The J.O.B. at Ponies & Pints
DESCRIPTION:Age Limit: 21+\n\nDetails: See Richmond rockers The J.O.B once, twice, even six times before winter gets here at Ponies &amp; Pints in Shockoe Bottom. \n\nThis awesome venue is hosting The J.O.B. with a section of floor, an electric outlet, and a home until Christmas. Pick a Saturday on the list and come rock with The J.O.B. in the capital city!\n\nAll original rock, alternative, blues and Americana rock song styles.\n\nOfficial website: www.thejoband.com\n\nShow dates:\nSaturday, September 8th\nSaturday, October 6th\nSaturday, October 20th\nSaturday, November 3rd\nSaturday, November 17th\nSaturday, December 15th
LOCATION:Ponies & Pints - 110 North 18th Street, Richmond, VA, 23223, US
END:VEVENT

END:VCALENDAR
