BEGIN:VCALENDAR
VERSION:2.0
BEGIN:VEVENT
CLASS:PUBLIC
CATEGORIES:MEETING
DTSTART;TZID=Europe/London:20180811T120000
DTEND;TZID=Europe/London:20180811T120000
SUMMARY:Deviant Amps at Llanfyllin Workhouse
DESCRIPTION:Age Limit: All Ages
LOCATION:Llanfyllin Workhouse - Y DOLYDD WORKHOUSE, Llanfyllin, SY22, UK
END:VEVENT

END:VCALENDAR
