BEGIN:VCALENDAR
VERSION:2.0
BEGIN:VEVENT
CLASS:PUBLIC
CATEGORIES:MEETING
DTSTART;TZID=America/Chicago:20180818T200000
DTEND;TZID=America/Chicago:20180818T200000
SUMMARY:Soul Punch at Hopskeller Brewing Company
DESCRIPTION:Age Limit: All Ages\n\nDetails: Awesome Craft Beer and Tunes!! 8-11PM!! 
LOCATION:Hopskeller Brewing Company - 116 East 3rd Street, Waterloo, IL, 62298, US
END:VEVENT

END:VCALENDAR
